BEGIN:VCALENDAR
VERSION:2.0
PRODID:SchoolNow
CALSCALE:GREGORIAN
BEGIN:VEVENT
UID:300be73e-05c9-11ec-a0f4-0ee39c5ff37b
DTSTAMP:20210825T172339Z
SUMMARY:Materials Pickup - Citizenship Students
URL;VALUE=URI:https://www.albanyschools.org/schools/albanyhigh/calendar/268
 8585/materials-pickup-citizenship-students
DTSTART:20210831T123000Z
DTEND:20210831T140000Z
END:VEVENT
END:VCALENDAR
