BEGIN:VCALENDAR
VERSION:2.0
PRODID:SchoolNow
CALSCALE:GREGORIAN
BEGIN:VEVENT
UID:4e513f96-05c9-11ec-9a99-0ee39c5ff37b
DTSTAMP:20210825T172430Z
SUMMARY:Materials Pickup - Discovery Students
URL;VALUE=URI:https://www.albanyschools.org/schools/albanyhigh/calendar/268
 8587/materials-pickup-discovery-students
DTSTART:20210831T140000Z
DTEND:20210831T153000Z
END:VEVENT
END:VCALENDAR
