BEGIN:VCALENDAR
VERSION:2.0
PRODID:SchoolNow
CALSCALE:GREGORIAN
BEGIN:VEVENT
UID:63569e90-05c9-11ec-8915-0ee39c5ff37b
DTSTAMP:20210825T172537Z
SUMMARY:Materials Pickup - Innovation Students
URL;VALUE=URI:https://www.albanyschools.org/schools/albanyhigh/calendar/268
 8589/materials-pickup-innovation-students
DTSTART:20210831T153000Z
DTEND:20210831T170000Z
END:VEVENT
END:VCALENDAR
