BEGIN:VCALENDAR
VERSION:2.0
PRODID:SchoolNow
CALSCALE:GREGORIAN
BEGIN:VEVENT
UID:8cf5f91c-05c9-11ec-a75f-0ee39c5ff37b
DTSTAMP:20210825T172615Z
SUMMARY:Materials Pickup - Leadership Students
URL;VALUE=URI:https://www.albanyschools.org/schools/albanyhigh/calendar/268
 8593/materials-pickup-leadership-students
DTSTART:20210831T170000Z
DTEND:20210831T183000Z
END:VEVENT
END:VCALENDAR
