BEGIN:VCALENDAR
VERSION:2.0
PRODID:SchoolNow
CALSCALE:GREGORIAN
BEGIN:VEVENT
UID:d04cd49c-05c9-11ec-a777-0ee39c5ff37b
DTSTAMP:20210825T172808Z
SUMMARY:Materials Pickup (for students unable to arrive earlier)
URL;VALUE=URI:https://www.albanyschools.org/schools/albanyhigh/calendar/268
 8598/materials-pickup-for-students-unable-to-arrive-earlier
DTSTART:20210831T183000Z
DTEND:20210831T193000Z
END:VEVENT
END:VCALENDAR
