BEGIN:VCALENDAR
VERSION:2.0
PRODID:SchoolNow
CALSCALE:GREGORIAN
BEGIN:VEVENT
UID:18d6efe0-05ca-11ec-aad3-0ee39c5ff37b
DTSTAMP:20210825T173009Z
SUMMARY:PTSA meeting
URL;VALUE=URI:https://www.albanyschools.org/schools/albanyhigh/calendar/268
 8601/ptsa-meeting
DTSTART:20210921T213000Z
DTEND:20210921T223000Z
END:VEVENT
END:VCALENDAR
