BEGIN:VCALENDAR
VERSION:2.0
PRODID:SchoolNow
CALSCALE:GREGORIAN
BEGIN:VEVENT
UID:72bbff3c-05ca-11ec-828f-0ee39c5ff37b
DTSTAMP:20210825T173240Z
SUMMARY:FIRST DAY OF CLASSES
URL;VALUE=URI:https://www.albanyschools.org/schools/albanyhigh/calendar/268
 8603/first-day-of-classes
DTSTART;VALUE=DATE:20210908
DTEND;VALUE=DATE:20210909
END:VEVENT
END:VCALENDAR
