BEGIN:VCALENDAR
VERSION:2.0
PRODID:SchoolNow
CALSCALE:GREGORIAN
BEGIN:VEVENT
UID:3ed7f432-0fed-11ec-9ac5-0a95087dc5fb
DTSTAMP:20210921T181159Z
SUMMARY:Open House (virtual)
URL;VALUE=URI:https://www.albanyschools.org/schools/albanyhigh/calendar/271
 3462/open-house
DTSTART:20210922T220000Z
DTEND:20210923T003500Z
END:VEVENT
END:VCALENDAR
