BEGIN:VCALENDAR
VERSION:2.0
PRODID:SchoolNow
CALSCALE:GREGORIAN
BEGIN:VEVENT
UID:0af87b56-11a9-11ec-beb5-0e3aba9b7d67
DTSTAMP:20211005T200024Z
SUMMARY:Financial Aid Night
URL;VALUE=URI:https://www.albanyschools.org/schools/albanyhigh/calendar/272
 1438/financial-aid-night
DTSTART:20211007T220000Z
DTEND:20211007T230000Z
END:VEVENT
END:VCALENDAR
