BEGIN:VCALENDAR
VERSION:2.0
PRODID:SchoolNow
CALSCALE:GREGORIAN
BEGIN:VEVENT
UID:32959a5e-11a9-11ec-be9b-026af143b4d5
DTSTAMP:20220119T151930Z
SUMMARY:College Information Night (virtual)
URL;VALUE=URI:https://www.albanyschools.org/schools/albanyhigh/calendar/272
 1439/college-information-night
DTSTART:20220120T230000Z
DTEND:20220121T000000Z
END:VEVENT
END:VCALENDAR
