BEGIN:VCALENDAR
VERSION:2.0
PRODID:SchoolNow
CALSCALE:GREGORIAN
BEGIN:VEVENT
UID:9c0e331e-1c77-11ec-a80d-0a1ae679a811
DTSTAMP:20211012T213321Z
SUMMARY:PSAT (sophomores and juniors)
URL;VALUE=URI:https://www.albanyschools.org/schools/albanyhigh/calendar/275
 8528/psat-test-sophomores-and-juniors
DTSTART:20211013T123000Z
DTEND:20211013T160000Z
END:VEVENT
END:VCALENDAR
