BEGIN:VCALENDAR
VERSION:2.0
PRODID:SchoolNow
CALSCALE:GREGORIAN
BEGIN:VEVENT
UID:872c0870-2124-11ec-b085-0ea9c2cea355
DTSTAMP:20211015T175050Z
SUMMARY:PTSA meeting
URL;VALUE=URI:https://www.albanyschools.org/schools/albanyhigh/calendar/277
 5383/ptsa-meeting
DTSTART:20211019T213000Z
DTEND:20211019T230000Z
END:VEVENT
END:VCALENDAR
