BEGIN:VCALENDAR
VERSION:2.0
PRODID:SchoolNow
CALSCALE:GREGORIAN
BEGIN:VEVENT
UID:bc07a964-2124-11ec-b5a8-02f119953171
DTSTAMP:20211112T194612Z
SUMMARY:Virtual PTSA meeting
URL;VALUE=URI:https://www.albanyschools.org/schools/albanyhigh/calendar/277
 5817/virtual-ptsa-meeting
DTSTART:20211116T223000Z
DTEND:20211117T000000Z
END:VEVENT
END:VCALENDAR
