BEGIN:VCALENDAR
VERSION:2.0
PRODID:SchoolNow
CALSCALE:GREGORIAN
BEGIN:VEVENT
UID:13cac3a2-2125-11ec-9fa2-0ea9c2cea355
DTSTAMP:20211209T184133Z
SUMMARY:Virtual PTSA meeting
URL;VALUE=URI:https://www.albanyschools.org/schools/albanyhigh/calendar/277
 5818/virtual-ptsa-meeting
DTSTART:20211214T223000Z
DTEND:20211215T000000Z
END:VEVENT
END:VCALENDAR
