BEGIN:VCALENDAR
VERSION:2.0
PRODID:SchoolNow
CALSCALE:GREGORIAN
BEGIN:VEVENT
UID:bc3cfdac-26c5-11ec-8808-02d2abea2203
DTSTAMP:20211006T165205Z
SUMMARY:Booster Club meeting
URL;VALUE=URI:https://www.albanyschools.org/schools/albanyhigh/calendar/279
 5792/booster-club-meeting
DTSTART:20211006T223000Z
DTEND:20211006T233000Z
END:VEVENT
END:VCALENDAR
