BEGIN:VCALENDAR
VERSION:2.0
PRODID:SchoolNow
CALSCALE:GREGORIAN
BEGIN:VEVENT
UID:c095b958-3bdc-11ec-b8e1-0281d19de62b
DTSTAMP:20211102T125945Z
SUMMARY:School pictures\, grades 9-11
URL;VALUE=URI:https://www.albanyschools.org/schools/albanyhigh/calendar/286
 2816/school-pictures-grades-9-11
DTSTART;VALUE=DATE:20211101
DTEND;VALUE=DATE:20211105
END:VEVENT
END:VCALENDAR
