BEGIN:VCALENDAR
VERSION:2.0
PRODID:SchoolNow
CALSCALE:GREGORIAN
BEGIN:VEVENT
UID:b37583ce-3bdd-11ec-bd40-0a233fe4e985
DTSTAMP:20211102T130632Z
SUMMARY:Chamber Concert
LOCATION:Myers Middle School
URL;VALUE=URI:https://www.albanyschools.org/schools/albanyhigh/calendar/286
 2819/chamber-concert
DTSTART:20211103T223000Z
DTEND:20211103T233000Z
END:VEVENT
END:VCALENDAR
