BEGIN:VCALENDAR
VERSION:2.0
PRODID:SchoolNow
CALSCALE:GREGORIAN
BEGIN:VEVENT
UID:f4ecf45e-3bdd-11ec-88b3-0abf58b2f50d
DTSTAMP:20211102T130822Z
SUMMARY:Virtual College Financial Aid Help Night
URL;VALUE=URI:https://www.albanyschools.org/schools/albanyhigh/calendar/286
 2820/virtual-college-financial-aid-help-night
DTSTART:20211104T200000Z
DTEND:20211104T230000Z
END:VEVENT
END:VCALENDAR
