BEGIN:VCALENDAR
VERSION:2.0
PRODID:SchoolNow
CALSCALE:GREGORIAN
BEGIN:VEVENT
UID:2684d838-3bde-11ec-9d17-02360fd4bd79
DTSTAMP:20211102T130945Z
SUMMARY:National Honor Society Inductions
LOCATION:Albany High gym
URL;VALUE=URI:https://www.albanyschools.org/schools/albanyhigh/calendar/286
 2821/national-honor-society-inductions
DTSTART:20211109T230000Z
DTEND:20211110T000000Z
END:VEVENT
END:VCALENDAR
