BEGIN:VCALENDAR
VERSION:2.0
PRODID:SchoolNow
CALSCALE:GREGORIAN
BEGIN:VEVENT
UID:58a6a08a-3bde-11ec-9842-0a7c7caaac05
DTSTAMP:20211102T131109Z
SUMMARY:Homecoming Dance
LOCATION:Gym
URL;VALUE=URI:https://www.albanyschools.org/schools/albanyhigh/calendar/286
 2822/homecoming-dance
DTSTART:20211113T000000Z
DTEND:20211113T030000Z
END:VEVENT
END:VCALENDAR
