BEGIN:VCALENDAR
VERSION:2.0
PRODID:SchoolNow
CALSCALE:GREGORIAN
BEGIN:VEVENT
UID:098a110c-3bdf-11ec-b0e2-0ee743f93fef
DTSTAMP:20211102T131606Z
SUMMARY:Winter Concert
LOCATION:Myers Middle School
URL;VALUE=URI:https://www.albanyschools.org/schools/albanyhigh/calendar/286
 2823/winter-concert
DTSTART:20211201T233000Z
DTEND:20211202T003000Z
END:VEVENT
END:VCALENDAR
