BEGIN:VCALENDAR
VERSION:2.0
PRODID:SchoolNow
CALSCALE:GREGORIAN
BEGIN:VEVENT
UID:26c5998a-3bdf-11ec-b4b3-0e891d80f75d
DTSTAMP:20211102T132050Z
SUMMARY:SAT exam
URL;VALUE=URI:https://www.albanyschools.org/schools/albanyhigh/calendar/286
 2824/sat-exam
DTSTART:20211106T120000Z
DTEND:20211106T130000Z
END:VEVENT
END:VCALENDAR
