BEGIN:VCALENDAR
VERSION:2.0
PRODID:SchoolNow
CALSCALE:GREGORIAN
BEGIN:VEVENT
UID:44fe520c-3bdf-11ec-90d9-0e4a311398ad
DTSTAMP:20211102T132127Z
SUMMARY:SAT exam
URL;VALUE=URI:https://www.albanyschools.org/schools/albanyhigh/calendar/286
 2825/sat-exam
DTSTART:20211204T130000Z
DTEND:20211204T140000Z
END:VEVENT
END:VCALENDAR
