BEGIN:VCALENDAR
VERSION:2.0
PRODID:SchoolNow
CALSCALE:GREGORIAN
BEGIN:VEVENT
UID:86846e64-3bdf-11ec-b4f2-0a7d056a360d
DTSTAMP:20211102T131936Z
SUMMARY:Winter Concert
LOCATION:Myers Middle School
URL;VALUE=URI:https://www.albanyschools.org/schools/albanyhigh/calendar/286
 2826/winter-concert
DTSTART:20211208T233000Z
DTEND:20211209T003000Z
END:VEVENT
END:VCALENDAR
