BEGIN:VCALENDAR
VERSION:2.0
PRODID:SchoolNow
CALSCALE:GREGORIAN
BEGIN:VEVENT
UID:a920f6ae-3bdf-11ec-89f4-0e25d079651b
DTSTAMP:20211102T132147Z
SUMMARY:ACT exam
URL;VALUE=URI:https://www.albanyschools.org/schools/albanyhigh/calendar/286
 2827/act-exam
DTSTART:20211211T130000Z
DTEND:20211211T140000Z
END:VEVENT
END:VCALENDAR
