BEGIN:VCALENDAR
VERSION:2.0
PRODID:SchoolNow
CALSCALE:GREGORIAN
BEGIN:VEVENT
UID:f92234e2-3bdf-11ec-90ba-0a233fe4e985
DTSTAMP:20211210T162812Z
SUMMARY:Winter Concert
LOCATION:Hackett Middle School
URL;VALUE=URI:https://www.albanyschools.org/schools/albanyhigh/calendar/286
 2828/winter-concert
DTSTART:20211214T233000Z
DTEND:20211215T003000Z
END:VEVENT
END:VCALENDAR
