BEGIN:VCALENDAR
VERSION:2.0
PRODID:SchoolNow
CALSCALE:GREGORIAN
BEGIN:VEVENT
UID:7a607aea-4190-11ec-bb54-0abc60b53bdd
DTSTAMP:20211109T192041Z
SUMMARY:College aid help session
URL;VALUE=URI:https://www.albanyschools.org/schools/albanyhigh/calendar/288
 1327/college-aid-help-session
DTSTART:20211118T190700Z
DTEND:20211118T200700Z
END:VEVENT
END:VCALENDAR
