BEGIN:VCALENDAR
VERSION:2.0
PRODID:SchoolNow
CALSCALE:GREGORIAN
BEGIN:VEVENT
UID:c7b447e6-463f-11ec-806f-023a1ce1ebfb
DTSTAMP:20211115T181348Z
SUMMARY:Parent University: Talk Saves Lives (11/16)
URL;VALUE=URI:https://www.albanyschools.org/schools/albanyhigh/calendar/289
 3704/talk-11-16
DTSTART:20211117T000000Z
DTEND:20211117T010000Z
END:VEVENT
END:VCALENDAR
