BEGIN:VCALENDAR
VERSION:2.0
PRODID:SchoolNow
CALSCALE:GREGORIAN
BEGIN:VEVENT
UID:dabc6526-463f-11ec-8c22-0ad24c8e20d7
DTSTAMP:20211115T181420Z
SUMMARY:Parent University: Talk Saves Lives (11/30)
URL;VALUE=URI:https://www.albanyschools.org/schools/albanyhigh/calendar/289
 3710/talk-11-30
DTSTART:20211201T000000Z
DTEND:20211201T010000Z
END:VEVENT
END:VCALENDAR
