BEGIN:VCALENDAR
VERSION:2.0
PRODID:SchoolNow
CALSCALE:GREGORIAN
BEGIN:VEVENT
UID:940f0628-5923-11ec-ab12-0e37ba793ef7
DTSTAMP:20220610T175133Z
SUMMARY:Senior Prom
LOCATION:Empire State Convention Center
URL;VALUE=URI:https://www.albanyschools.org/schools/albanyhigh/calendar/294
 2615/senior-prom
DTSTART:20220611T230000Z
DTEND:20220612T030000Z
END:VEVENT
END:VCALENDAR
