BEGIN:VCALENDAR
VERSION:2.0
PRODID:SchoolNow
CALSCALE:GREGORIAN
BEGIN:VEVENT
UID:757a8516-722d-11ec-a72c-0210339bb24b
DTSTAMP:20220113T134552Z
SUMMARY:PTSA meeting (virtual)
URL;VALUE=URI:https://www.albanyschools.org/schools/albanyhigh/calendar/306
 6105/ptsa-meeting
DTSTART:20220118T223000Z
DTEND:20220119T000000Z
END:VEVENT
END:VCALENDAR
