BEGIN:VCALENDAR
VERSION:2.0
PRODID:SchoolNow
CALSCALE:GREGORIAN
BEGIN:VEVENT
UID:f40a9e22-8aa4-11ec-8144-0a79c3efda05
DTSTAMP:20220210T190921Z
SUMMARY:Spirit Week (2/14-2/18)
URL;VALUE=URI:https://www.albanyschools.org/schools/albanyhigh/calendar/309
 9259/spirit-week-2-14-2-18
DTSTART:20220214T050600Z
DTEND:20220219T045500Z
END:VEVENT
END:VCALENDAR
