BEGIN:VCALENDAR
VERSION:2.0
PRODID:SchoolNow
CALSCALE:GREGORIAN
BEGIN:VEVENT
UID:492cc186-8dbc-11ec-b91a-026755811603
DTSTAMP:20220214T173534Z
SUMMARY:PTSA meeting (virtual)
URL;VALUE=URI:https://www.albanyschools.org/schools/albanyhigh/calendar/310
 2756/ptsa-meeting-virtual
DTSTART:20220215T223000Z
DTEND:20220215T233000Z
END:VEVENT
END:VCALENDAR
