BEGIN:VCALENDAR
VERSION:2.0
PRODID:SchoolNow
CALSCALE:GREGORIAN
BEGIN:VEVENT
UID:8bc0d36e-93fe-11ec-8f56-0a1e4ee7b8df
DTSTAMP:20220228T195232Z
SUMMARY:Mardi Gras Dance
LOCATION:Main gym\, Albany High
URL;VALUE=URI:https://www.albanyschools.org/schools/albanyhigh/calendar/311
 1601/mardi-gras-dance
DTSTART:20220306T000000Z
DTEND:20220306T030000Z
END:VEVENT
END:VCALENDAR
