BEGIN:VCALENDAR
VERSION:2.0
PRODID:SchoolNow
CALSCALE:GREGORIAN
BEGIN:VEVENT
UID:aaeb4b84-93fe-11ec-a79c-0ab020454693
DTSTAMP:20220222T164426Z
SUMMARY:SAT exam
URL;VALUE=URI:https://www.albanyschools.org/schools/albanyhigh/calendar/311
 1602/sat-exam
DTSTART:20220312T130000Z
DTEND:20220312T140000Z
END:VEVENT
END:VCALENDAR
