BEGIN:VCALENDAR
VERSION:2.0
PRODID:SchoolNow
CALSCALE:GREGORIAN
BEGIN:VEVENT
UID:cc5663d0-93fe-11ec-ab1b-0e9cb3837b5b
DTSTAMP:20220224T211012Z
SUMMARY:PTSA meeting (virtual)
URL;VALUE=URI:https://www.albanyschools.org/schools/albanyhigh/calendar/311
 1664/ptsa-meeting-virtual
DTSTART:20220315T213000Z
DTEND:20220315T223000Z
END:VEVENT
END:VCALENDAR
