BEGIN:VCALENDAR
VERSION:2.0
PRODID:SchoolNow
CALSCALE:GREGORIAN
BEGIN:VEVENT
UID:52897c9c-94c9-11ec-ad8e-025562101b21
DTSTAMP:20220223T165453Z
SUMMARY:Regents exams (6/15-6/24)
URL;VALUE=URI:https://www.albanyschools.org/schools/albanyhigh/calendar/311
 3526/regents-exams-clone
DTSTART:20220615T155300Z
DTEND:20220624T165300Z
END:VEVENT
END:VCALENDAR
