BEGIN:VCALENDAR
VERSION:2.0
PRODID:SchoolNow
CALSCALE:GREGORIAN
BEGIN:VEVENT
UID:26d34a30-a935-11ec-adb6-0a77a7eed393
DTSTAMP:20220321T163709Z
SUMMARY:SAT exam (rescheduled from March 12)
URL;VALUE=URI:https://www.albanyschools.org/schools/albanyhigh/calendar/313
 8590/sat-exam
DTSTART:20220326T120000Z
DTEND:20220326T130000Z
END:VEVENT
END:VCALENDAR
