BEGIN:VCALENDAR
VERSION:2.0
PRODID:SchoolNow
CALSCALE:GREGORIAN
BEGIN:VEVENT
UID:03f111d2-aab6-11ec-8e9b-0e25638e00b9
DTSTAMP:20220602T174424Z
SUMMARY:Mandatory senior meeting
LOCATION:Citizenship/Innovation Café
URL;VALUE=URI:https://www.albanyschools.org/schools/albanyhigh/calendar/314
 0479/mandatory-senior-meeting
DTSTART:20220613T184800Z
DTEND:20220613T190000Z
END:VEVENT
END:VCALENDAR
