BEGIN:VCALENDAR
VERSION:2.0
PRODID:SchoolNow
CALSCALE:GREGORIAN
BEGIN:VEVENT
UID:6103bf82-aab6-11ec-8010-0e25638e00b9
DTSTAMP:20220323T143443Z
SUMMARY:Deadline to order caps and gowns
URL;VALUE=URI:https://www.albanyschools.org/schools/albanyhigh/calendar/314
 0480/deadline-to-order-caps-and-gowns
DTSTART:20220401T130000Z
DTEND:20220401T140000Z
END:VEVENT
END:VCALENDAR
