BEGIN:VCALENDAR
VERSION:2.0
PRODID:SchoolNow
CALSCALE:GREGORIAN
BEGIN:VEVENT
UID:837eb0f8-aab6-11ec-b974-0e25638e00b9
DTSTAMP:20220602T220613Z
SUMMARY:Senior Field Day & Cap Decorating
LOCATION:Turf Field
URL;VALUE=URI:https://www.albanyschools.org/schools/albanyhigh/calendar/314
 0481/senior-field-day-cap-decorating
DTSTART:20220614T180000Z
DTEND:20220614T190000Z
END:VEVENT
END:VCALENDAR
