BEGIN:VCALENDAR
VERSION:2.0
PRODID:SchoolNow
CALSCALE:GREGORIAN
BEGIN:VEVENT
UID:cbbf6f6a-aab6-11ec-bd4c-0e25638e00b9
DTSTAMP:20220602T174445Z
SUMMARY:Graduation: Class of 2022
LOCATION:Palace Theatre\, 19 Clinton Ave.
URL;VALUE=URI:https://www.albanyschools.org/schools/albanyhigh/calendar/314
 0483/graduation-class-of-2022
DTSTART:20220626T160000Z
DTEND:20220626T170000Z
END:VEVENT
END:VCALENDAR
