BEGIN:VCALENDAR
VERSION:2.0
PRODID:SchoolNow
CALSCALE:GREGORIAN
BEGIN:VEVENT
UID:ae3afda0-b03e-11ec-a4eb-0ed3d3de67a9
DTSTAMP:20220331T182604Z
SUMMARY:PTSA meeting (virtual)
URL;VALUE=URI:https://www.albanyschools.org/schools/albanyhigh/calendar/314
 8002/ptsa-meeting-virtual
DTSTART:20220426T213000Z
DTEND:20220426T223000Z
END:VEVENT
END:VCALENDAR
