BEGIN:VCALENDAR
VERSION:2.0
PRODID:SchoolNow
CALSCALE:GREGORIAN
BEGIN:VEVENT
UID:9a4a24bc-b5aa-11ec-853e-0e47634bc63f
DTSTAMP:20220406T130807Z
SUMMARY:Chamber Concert
LOCATION:Stephen and Harriet Myers Middle School\, 100 Elbel Court
URL;VALUE=URI:https://www.albanyschools.org/schools/albanyhigh/calendar/315
 4930/chamber-concert
DTSTART:20220406T223000Z
DTEND:20220406T233000Z
END:VEVENT
END:VCALENDAR
