BEGIN:VCALENDAR
VERSION:2.0
PRODID:SchoolNow
CALSCALE:GREGORIAN
BEGIN:VEVENT
UID:fb0aa344-b5aa-11ec-af48-0e0aa255ad5b
DTSTAMP:20220406T131050Z
SUMMARY:Spring Concert featuring Vocal Music\, String Orchestra and Symphon
 ic Band
LOCATION:Stephen and Harriet Myers Middle School\, 100 Elbel Court
URL;VALUE=URI:https://www.albanyschools.org/schools/albanyhigh/calendar/315
 4931/spring-concert-featuring-vocal-music-string-orchestra-and-symphonic-b
 and
DTSTART:20220511T223000Z
DTEND:20220511T233000Z
END:VEVENT
END:VCALENDAR
