BEGIN:VCALENDAR
VERSION:2.0
PRODID:SchoolNow
CALSCALE:GREGORIAN
BEGIN:VEVENT
UID:9d4d710e-b5ab-11ec-895d-0e62fff0c819
DTSTAMP:20220412T200948Z
SUMMARY:Spring Concert featuring Select Choir\, Advanced Orchestra and Wind
  Ensemble
LOCATION:Stephen and Harriet Myers Middle School\, 100 Elbel Court
URL;VALUE=URI:https://www.albanyschools.org/schools/albanyhigh/calendar/315
 4932/spring-concert-featuring-select-choir-advanced-orchestra-and-wind-ens
 emble
DTSTART:20220518T103000Z
DTEND:20220518T113000Z
END:VEVENT
END:VCALENDAR
