BEGIN:VCALENDAR
VERSION:2.0
PRODID:SchoolNow
CALSCALE:GREGORIAN
BEGIN:VEVENT
UID:6e75a70a-b5ad-11ec-a8ad-02ab557419af
DTSTAMP:20220406T132822Z
SUMMARY:Parent University: Tobacco Marketing (4/14)
URL;VALUE=URI:https://www.albanyschools.org/schools/albanyhigh/calendar/315
 4944/tobacco
DTSTART:20220414T230000Z
DTEND:20220415T000000Z
END:VEVENT
END:VCALENDAR
