BEGIN:VCALENDAR
VERSION:2.0
PRODID:SchoolNow
CALSCALE:GREGORIAN
BEGIN:VEVENT
UID:1993b94c-b757-11ec-9568-0e774abeaac1
DTSTAMP:20220408T161526Z
SUMMARY:SAT exam
URL;VALUE=URI:https://www.albanyschools.org/schools/albanyhigh/calendar/316
 3585/sat-exam
DTSTART:20220507T120000Z
DTEND:20220507T130000Z
END:VEVENT
END:VCALENDAR
