BEGIN:VCALENDAR
VERSION:2.0
PRODID:SchoolNow
CALSCALE:GREGORIAN
BEGIN:VEVENT
UID:46e4a0aa-b757-11ec-ae74-0a3462012035
DTSTAMP:20220420T205737Z
SUMMARY:Mother's Day Spa Day
LOCATION:Abrookin Career and Technical Center\, 99 Kent St.
URL;VALUE=URI:https://www.albanyschools.org/schools/albanyhigh/calendar/316
 3586/mothers-day-spa-day
DTSTART:20220507T140000Z
DTEND:20220507T170000Z
END:VEVENT
END:VCALENDAR
