BEGIN:VCALENDAR
VERSION:2.0
PRODID:SchoolNow
CALSCALE:GREGORIAN
BEGIN:VEVENT
UID:5ed36d90-b757-11ec-bc9c-02bb00f4f53f
DTSTAMP:20220408T161722Z
SUMMARY:PTSA meeting (virtual)
URL;VALUE=URI:https://www.albanyschools.org/schools/albanyhigh/calendar/316
 3587/ptsa-meeting-virtual
DTSTART:20220518T213000Z
DTEND:20220518T223000Z
END:VEVENT
END:VCALENDAR
